BEGIN:VCALENDAR
VERSION:2.0
PRODID:Events Booking
BEGIN:VEVENT
UID:69e8023d07ee6
SUMMARY:Austrian Soundcheck - trio akk:zent
DESCRIPTION:Victoria Pfeil - saxophoneJohannes Münzner - AkkordeonPaul Sch
 uberth - Akkordeon
LOCATION:Grieskai 74a\, 8020 Graz
DTSTART:20211112T190000Z
DTSTAMP:20260422T010325Z
ORGANIZER:MAILTO:tickets@tubes-music.at
GEO:47.062323;15.4334
X-APPLE-STRUCTURED-LOCATION;VALUE=URI;X-ADDRESS=Grieskai 74a\, 8020 Graz;X-
 APPLE-RADIUS=72;X-TITLE=Tube's:47.062323;15.4334
END:VEVENT
END:VCALENDAR