BEGIN:VCALENDAR
VERSION:2.0
PRODID:Events Booking
BEGIN:VEVENT
UID:69e60fb029a03
SUMMARY:ACTS! Ana Čop & Thilo Seevers
DESCRIPTION:Ana Čop&nbsp\;‐&nbsp\;vocalsThilo Seevers&nbsp\;‐&nbsp\;pi
 ano
LOCATION:Grieskai 74a\, 8020 Graz
DTSTART:20211117T190000Z
DTSTAMP:20260420T133616Z
ORGANIZER:MAILTO:tickets@tubes-music.at
GEO:47.062323;15.4334
X-APPLE-STRUCTURED-LOCATION;VALUE=URI;X-ADDRESS=Grieskai 74a\, 8020 Graz;X-
 APPLE-RADIUS=72;X-TITLE=Tube's:47.062323;15.4334
END:VEVENT
END:VCALENDAR