BEGIN:VCALENDAR
VERSION:2.0
PRODID:Events Booking
BEGIN:VEVENT
UID:69e5fa8f03bd1
SUMMARY:Lightsey - Belmondo Quintet
DESCRIPTION:Kirk Lightsey&nbsp\;- piano&nbsp\;Stephane Belmondo - trumpetPa
 ul Zauner - tromboneWolfram Derschmidt - bassDusan Novakov - drums
LOCATION:Grieskai 74a\, 8020 Graz
DTSTART:20220310T190000Z
DTSTAMP:20260420T120607Z
ORGANIZER:MAILTO:tickets@tubes-music.at
GEO:47.062323;15.4334
X-APPLE-STRUCTURED-LOCATION;VALUE=URI;X-ADDRESS=Grieskai 74a\, 8020 Graz;X-
 APPLE-RADIUS=72;X-TITLE=Tube's:47.062323;15.4334
END:VEVENT
END:VCALENDAR