BEGIN:VCALENDAR
VERSION:2.0
PRODID:Events Booking
BEGIN:VEVENT
UID:69e7548e36158
SUMMARY:Groove - Sokal-Wressnig-Deutsch
DESCRIPTION:
 
 
 
 presented by GamsbART
 &nbsp\;
 Harry Sokal - Ten
 or SaxophoneRaphael Wressnig - Hammond B-3 organAlex Deutsch - Drums
 
 
 
 
 
LOCATION:Grieskai 74a\, 8020 Graz
DTSTART:20230217T190000Z
DTSTAMP:20260421T124222Z
ORGANIZER:MAILTO:tickets@tubes-music.at
GEO:47.062323;15.4334
X-APPLE-STRUCTURED-LOCATION;VALUE=URI;X-ADDRESS=Grieskai 74a\, 8020 Graz;X-
 APPLE-RADIUS=72;X-TITLE=Tube's:47.062323;15.4334
END:VEVENT
END:VCALENDAR