BEGIN:VCALENDAR
VERSION:2.0
PRODID:Events Booking
BEGIN:VEVENT
UID:69e5feb35c7dd
SUMMARY:Tobias Kochseder & Bandouba
DESCRIPTION:
 Tobias Kochseder &amp\; Bandouba
 Tobias Kochseder - Bandon
 eon&nbsp\;Oskar Longyka - Violine Christine Rainer - Violine\, Gesang&nbsp
 \;Christine Moik - Violine\, Gesang&nbsp\;Jure Podvratnik - Gitarre Žan M
 ilošič - Klavier Florian Büchele - Tuba&nbsp\;
 presented by GamsbART
 
 
LOCATION:Grieskai 74a\, 8020 Graz
DTSTART:20220217T190000Z
DTSTAMP:20260420T122347Z
ORGANIZER:MAILTO:tickets@tubes-music.at
GEO:47.062323;15.4334
X-APPLE-STRUCTURED-LOCATION;VALUE=URI;X-ADDRESS=Grieskai 74a\, 8020 Graz;X-
 APPLE-RADIUS=72;X-TITLE=Tube's:47.062323;15.4334
END:VEVENT
END:VCALENDAR