BEGIN:VCALENDAR
VERSION:2.0
PRODID:Events Booking
BEGIN:VEVENT
UID:69e5e4f5420e9
SUMMARY:Kons @ Tubes
DESCRIPTION:Johann-Jospeh-Fux Konservatorium
 Sommerkonzerte 2021
LOCATION:Grieskai 74a\, 8020 Graz
DTSTART:20210621T180000Z
DTSTAMP:20260420T103357Z
ORGANIZER:MAILTO:tickets@tubes-music.at
GEO:47.062323;15.4334
X-APPLE-STRUCTURED-LOCATION;VALUE=URI;X-ADDRESS=Grieskai 74a\, 8020 Graz;X-
 APPLE-RADIUS=72;X-TITLE=Tube's:47.062323;15.4334
END:VEVENT
END:VCALENDAR