BEGIN:VCALENDAR
VERSION:2.0
PRODID:Events Booking
BEGIN:VEVENT
UID:69e73e7c77b2c
SUMMARY:Luis Bonilla - Sigi Feigl Quintett
DESCRIPTION:
 
 
 
 Luis Bonilla - tromboneSigi Feigl - saxophoneSaša 
 Mutić - pianoKajetan Kamenjasevic. - bassKarlheinz Miklin jr. - drums
 
 
 
 
 
LOCATION:Grieskai 74a\, 8020 Graz
DTSTART:20230927T180000Z
DTSTAMP:20260421T110812Z
ORGANIZER:MAILTO:tickets@tubes-music.at
GEO:47.062323;15.4334
X-APPLE-STRUCTURED-LOCATION;VALUE=URI;X-ADDRESS=Grieskai 74a\, 8020 Graz;X-
 APPLE-RADIUS=72;X-TITLE=Tube's:47.062323;15.4334
END:VEVENT
END:VCALENDAR