BEGIN:VCALENDAR
VERSION:2.0
PRODID:Events Booking
BEGIN:VEVENT
UID:69e75d68e32da
SUMMARY:\"Sir\" Oliver Mally Group & SF Hornets
DESCRIPTION:
 
 
 
 
 \"Sir\" Oliver Mally Group feat. Sigi Feigl Horn
 ets
 \"Sir\" Oliver Mally - voc\, guitarAlex Meik - bass\, vocPeter Lenz 
 - drumsMartin Gasselsberger - piano
 Luis Bonilla - tromboneKarl Rossmann
  - trumpetSigi Feigl - ten/alto saxophonSascha Ryndenko - ten/bari saxopho
 ne
 
 
 
 
 
LOCATION:Grieskai 74a\, 8020 Graz
DTSTART:20231021T180000Z
DTSTAMP:20260421T132008Z
ORGANIZER:MAILTO:tickets@tubes-music.at
GEO:47.062323;15.4334
X-APPLE-STRUCTURED-LOCATION;VALUE=URI;X-ADDRESS=Grieskai 74a\, 8020 Graz;X-
 APPLE-RADIUS=72;X-TITLE=Tube's:47.062323;15.4334
END:VEVENT
END:VCALENDAR