BEGIN:VCALENDAR
VERSION:2.0
PRODID:Events Booking
BEGIN:VEVENT
UID:69e59338001af
SUMMARY:Eddie Luis Jazz Passengers go New Orleans
DESCRIPTION:
 
 
 
 
 &nbsp\;
 Balazs Szaloky - Trompete
 Marton Pap
 p - Klarinette
 Mátyás Papp - Posaune
 Johannes Mandl - Gitarre
 Eddi
 e Luis - Tuba\, Kontrabass
 Oleg Markov - Schlagzeug&nbsp\;
 
 
 
 

  
LOCATION:Grieskai 74a\, 8020 Graz
DTSTART:20260625T180000Z
DTSTAMP:20260420T044512Z
ORGANIZER:MAILTO:tickets@tubes-music.at
GEO:47.062323;15.4334
X-APPLE-STRUCTURED-LOCATION;VALUE=URI;X-ADDRESS=Grieskai 74a\, 8020 Graz;X-
 APPLE-RADIUS=72;X-TITLE=Tube's:47.062323;15.4334
END:VEVENT
END:VCALENDAR