BEGIN:VCALENDAR
VERSION:2.0
PRODID:Events Booking
BEGIN:VEVENT
UID:69e65851f2764
SUMMARY:Vesna Petkovic Band
DESCRIPTION:
 
 
 
 
 
 
 Vesna Petković- VocalWerner Radzik - Pian
 oMartin Harms - SaxophonLuka Ignjatović – SaxophonMilan Nikolić - Bass
 Pedja Milutinović -Schlagzeug
 &nbsp\;
 
 
 
 
 
 
 
 
LOCATION:Grieskai 74a\, 8020 Graz
DTSTART:20241206T190000Z
DTSTAMP:20260420T184609Z
ORGANIZER:MAILTO:tickets@tubes-music.at
GEO:47.062323;15.4334
X-APPLE-STRUCTURED-LOCATION;VALUE=URI;X-ADDRESS=Grieskai 74a\, 8020 Graz;X-
 APPLE-RADIUS=72;X-TITLE=Tube's:47.062323;15.4334
END:VEVENT
END:VCALENDAR