BEGIN:VCALENDAR
VERSION:2.0
PRODID:Events Booking
BEGIN:VEVENT
UID:69e85334750cf
SUMMARY:Duo Sonoma & Alexandra Ivanova Trio
DESCRIPTION:
 
 
 
 GamsbART presents - Austrian Soundcheck ´23
 &nbs
 p\;
 
 Duo SonomaMira Gregorić - ViolineSara Gregorić - Gitarre
 ....
 .................................
 Alexandra Ivanova TrioBeauty in Chaos 
 - Release Tour
 Alexandra Ivanova - pianoNiklas Lukassen&nbsp\; bassAndr
 ás Dés - percussion
 
 
 
 
 
LOCATION:Grieskai 74a\, 8020 Graz
DTSTART:20231110T190000Z
DTSTAMP:20260422T064852Z
ORGANIZER:MAILTO:tickets@tubes-music.at
GEO:47.062323;15.4334
X-APPLE-STRUCTURED-LOCATION;VALUE=URI;X-ADDRESS=Grieskai 74a\, 8020 Graz;X-
 APPLE-RADIUS=72;X-TITLE=Tube's:47.062323;15.4334
END:VEVENT
END:VCALENDAR